BEGIN:VCALENDAR
VERSION:2.0
PRODID:-//Freiwillige Feuerwehr Hüttenbach 1870 e.V. - ECPv6.15.20//NONSGML v1.0//EN
CALSCALE:GREGORIAN
METHOD:PUBLISH
X-WR-CALNAME:Freiwillige Feuerwehr Hüttenbach 1870 e.V.
X-ORIGINAL-URL:https://ff-huettenbach.de
X-WR-CALDESC:Veranstaltungen für Freiwillige Feuerwehr Hüttenbach 1870 e.V.
REFRESH-INTERVAL;VALUE=DURATION:PT1H
X-Robots-Tag:noindex
X-PUBLISHED-TTL:PT1H
BEGIN:VTIMEZONE
TZID:Europe/Berlin
BEGIN:DAYLIGHT
TZOFFSETFROM:+0100
TZOFFSETTO:+0200
TZNAME:CEST
DTSTART:20250330T010000
END:DAYLIGHT
BEGIN:STANDARD
TZOFFSETFROM:+0200
TZOFFSETTO:+0100
TZNAME:CET
DTSTART:20251026T010000
END:STANDARD
BEGIN:DAYLIGHT
TZOFFSETFROM:+0100
TZOFFSETTO:+0200
TZNAME:CEST
DTSTART:20260329T010000
END:DAYLIGHT
BEGIN:STANDARD
TZOFFSETFROM:+0200
TZOFFSETTO:+0100
TZNAME:CET
DTSTART:20261025T010000
END:STANDARD
BEGIN:DAYLIGHT
TZOFFSETFROM:+0100
TZOFFSETTO:+0200
TZNAME:CEST
DTSTART:20270328T010000
END:DAYLIGHT
BEGIN:STANDARD
TZOFFSETFROM:+0200
TZOFFSETTO:+0100
TZNAME:CET
DTSTART:20271031T010000
END:STANDARD
END:VTIMEZONE
BEGIN:VEVENT
DTSTART;TZID=Europe/Berlin:20260220T153000
DTEND;TZID=Europe/Berlin:20260220T163000
DTSTAMP:20260421T180851
CREATED:20251218T073548Z
LAST-MODIFIED:20251218T073548Z
UID:9005-1771601400-1771605000@ff-huettenbach.de
SUMMARY:Kinderfeuerwehr
DESCRIPTION:
URL:https://ff-huettenbach.de/event/kinderfeuerwehr-2/
CATEGORIES:Termine Kinderfeuerwehr
END:VEVENT
BEGIN:VEVENT
DTSTART;TZID=Europe/Berlin:20260220T170000
DTEND;TZID=Europe/Berlin:20260220T190000
DTSTAMP:20260421T180851
CREATED:20251218T073548Z
LAST-MODIFIED:20251218T073548Z
UID:9006-1771606800-1771614000@ff-huettenbach.de
SUMMARY:Jugendfeuerwehr
DESCRIPTION:
URL:https://ff-huettenbach.de/event/jugendfeuerwehr-6/
CATEGORIES:Termine Jugendfeuerwehr
END:VEVENT
END:VCALENDAR