BEGIN:VCALENDAR
VERSION:2.0
PRODID:-//Freiwillige Feuerwehr Hüttenbach 1870 e.V. - ECPv6.15.20//NONSGML v1.0//EN
CALSCALE:GREGORIAN
METHOD:PUBLISH
X-WR-CALNAME:Freiwillige Feuerwehr Hüttenbach 1870 e.V.
X-ORIGINAL-URL:https://ff-huettenbach.de
X-WR-CALDESC:Veranstaltungen für Freiwillige Feuerwehr Hüttenbach 1870 e.V.
REFRESH-INTERVAL;VALUE=DURATION:PT1H
X-Robots-Tag:noindex
X-PUBLISHED-TTL:PT1H
BEGIN:VTIMEZONE
TZID:Europe/Berlin
BEGIN:DAYLIGHT
TZOFFSETFROM:+0100
TZOFFSETTO:+0200
TZNAME:CEST
DTSTART:20250330T010000
END:DAYLIGHT
BEGIN:STANDARD
TZOFFSETFROM:+0200
TZOFFSETTO:+0100
TZNAME:CET
DTSTART:20251026T010000
END:STANDARD
BEGIN:DAYLIGHT
TZOFFSETFROM:+0100
TZOFFSETTO:+0200
TZNAME:CEST
DTSTART:20260329T010000
END:DAYLIGHT
BEGIN:STANDARD
TZOFFSETFROM:+0200
TZOFFSETTO:+0100
TZNAME:CET
DTSTART:20261025T010000
END:STANDARD
BEGIN:DAYLIGHT
TZOFFSETFROM:+0100
TZOFFSETTO:+0200
TZNAME:CEST
DTSTART:20270328T010000
END:DAYLIGHT
BEGIN:STANDARD
TZOFFSETFROM:+0200
TZOFFSETTO:+0100
TZNAME:CET
DTSTART:20271031T010000
END:STANDARD
END:VTIMEZONE
BEGIN:VEVENT
DTSTART;TZID=Europe/Berlin:20261031T183000
DTEND;TZID=Europe/Berlin:20261031T233000
DTSTAMP:20260422T020410
CREATED:20251218T075721Z
LAST-MODIFIED:20251218T075721Z
UID:9125-1793471400-1793489400@ff-huettenbach.de
SUMMARY:Kameradschaftsabend
DESCRIPTION:
URL:https://ff-huettenbach.de/event/kameradschaftsabend-2/
CATEGORIES:Termine Verein
END:VEVENT
BEGIN:VEVENT
DTSTART;TZID=Europe/Berlin:20261102T190000
DTEND;TZID=Europe/Berlin:20261102T210000
DTSTAMP:20260422T020410
CREATED:20251218T075722Z
LAST-MODIFIED:20251218T075722Z
UID:9126-1793646000-1793653200@ff-huettenbach.de
SUMMARY:Gruppendienst Gr. 3
DESCRIPTION:
URL:https://ff-huettenbach.de/event/gruppendienst-gr-3-4/
CATEGORIES:Termine aktive Wehr
END:VEVENT
BEGIN:VEVENT
DTSTART;TZID=Europe/Berlin:20261106T170000
DTEND;TZID=Europe/Berlin:20261106T190000
DTSTAMP:20260422T020410
CREATED:20251218T075722Z
LAST-MODIFIED:20251218T075722Z
UID:9127-1793984400-1793991600@ff-huettenbach.de
SUMMARY:Jugendfeuerwehr
DESCRIPTION:
URL:https://ff-huettenbach.de/event/jugendfeuerwehr-34/
CATEGORIES:Termine Jugendfeuerwehr
END:VEVENT
BEGIN:VEVENT
DTSTART;TZID=Europe/Berlin:20261107T083000
DTEND;TZID=Europe/Berlin:20261107T103000
DTSTAMP:20260422T020410
CREATED:20251218T075729Z
LAST-MODIFIED:20251218T075729Z
UID:9128-1794040200-1794047400@ff-huettenbach.de
SUMMARY:Übung Sanitäter
DESCRIPTION:
URL:https://ff-huettenbach.de/event/uebung-sanitaeter-16/
CATEGORIES:Termine aktive Wehr
END:VEVENT
BEGIN:VEVENT
DTSTART;TZID=Europe/Berlin:20261109T190000
DTEND;TZID=Europe/Berlin:20261109T210000
DTSTAMP:20260422T020410
CREATED:20251218T075730Z
LAST-MODIFIED:20251218T075730Z
UID:9129-1794250800-1794258000@ff-huettenbach.de
SUMMARY:Übung B
DESCRIPTION:
URL:https://ff-huettenbach.de/event/uebung-b-11/
CATEGORIES:Termine aktive Wehr
END:VEVENT
BEGIN:VEVENT
DTSTART;TZID=Europe/Berlin:20261111T163000
DTEND;TZID=Europe/Berlin:20261111T183000
DTSTAMP:20260422T020410
CREATED:20251218T075730Z
LAST-MODIFIED:20251218T075730Z
UID:9130-1794414600-1794421800@ff-huettenbach.de
SUMMARY:St. Martins Umzug Kiga
DESCRIPTION:
URL:https://ff-huettenbach.de/event/st-martins-umzug-kiga/
CATEGORIES:Termine aktive Wehr
END:VEVENT
BEGIN:VEVENT
DTSTART;TZID=Europe/Berlin:20261113T170000
DTEND;TZID=Europe/Berlin:20261113T190000
DTSTAMP:20260422T020410
CREATED:20251218T075730Z
LAST-MODIFIED:20251218T075730Z
UID:9131-1794589200-1794596400@ff-huettenbach.de
SUMMARY:Jugendfeuerwehr
DESCRIPTION:
URL:https://ff-huettenbach.de/event/jugendfeuerwehr-35/
CATEGORIES:Termine Jugendfeuerwehr
END:VEVENT
BEGIN:VEVENT
DTSTART;TZID=Europe/Berlin:20261118T200000
DTEND;TZID=Europe/Berlin:20261118T220000
DTSTAMP:20260422T020410
CREATED:20251218T075730Z
LAST-MODIFIED:20251218T075730Z
UID:9132-1795032000-1795039200@ff-huettenbach.de
SUMMARY:Vorstandschaftssitzung
DESCRIPTION:
URL:https://ff-huettenbach.de/event/vorstandschaftssitzung-22/
CATEGORIES:Termine Verein
END:VEVENT
BEGIN:VEVENT
DTSTART;TZID=Europe/Berlin:20261120T153000
DTEND;TZID=Europe/Berlin:20261120T173000
DTSTAMP:20260422T020410
CREATED:20251218T075738Z
LAST-MODIFIED:20251218T075738Z
UID:9133-1795188600-1795195800@ff-huettenbach.de
SUMMARY:Kinderfeuerwehr
DESCRIPTION:
URL:https://ff-huettenbach.de/event/kinderfeuerwehr-11/
CATEGORIES:Termine Kinderfeuerwehr
END:VEVENT
BEGIN:VEVENT
DTSTART;TZID=Europe/Berlin:20261120T170000
DTEND;TZID=Europe/Berlin:20261120T190000
DTSTAMP:20260422T020410
CREATED:20251218T075738Z
LAST-MODIFIED:20251218T075738Z
UID:9134-1795194000-1795201200@ff-huettenbach.de
SUMMARY:Jugendfeuerwehr
DESCRIPTION:
URL:https://ff-huettenbach.de/event/jugendfeuerwehr-36/
CATEGORIES:Termine Jugendfeuerwehr
END:VEVENT
BEGIN:VEVENT
DTSTART;TZID=Europe/Berlin:20261123T190000
DTEND;TZID=Europe/Berlin:20261123T210000
DTSTAMP:20260422T020410
CREATED:20251218T075738Z
LAST-MODIFIED:20251218T075738Z
UID:9135-1795460400-1795467600@ff-huettenbach.de
SUMMARY:Übung ASG
DESCRIPTION:
URL:https://ff-huettenbach.de/event/uebung-asg-4/
CATEGORIES:Termine aktive Wehr
END:VEVENT
BEGIN:VEVENT
DTSTART;TZID=Europe/Berlin:20261125T190000
DTEND;TZID=Europe/Berlin:20261125T210000
DTSTAMP:20260422T020410
CREATED:20251218T075739Z
LAST-MODIFIED:20251218T075739Z
UID:9137-1795633200-1795640400@ff-huettenbach.de
SUMMARY:Jugendwartsitzung
DESCRIPTION:
URL:https://ff-huettenbach.de/event/jugendwartsitzung-2/
CATEGORIES:Termine Jugendfeuerwehr
END:VEVENT
BEGIN:VEVENT
DTSTART;TZID=Europe/Berlin:20261125T200000
DTEND;TZID=Europe/Berlin:20261125T220000
DTSTAMP:20260422T020410
CREATED:20251218T075739Z
LAST-MODIFIED:20251218T075739Z
UID:9136-1795636800-1795644000@ff-huettenbach.de
SUMMARY:Kdt Sitzung Gde
DESCRIPTION:
URL:https://ff-huettenbach.de/event/kdt-sitzung-gde-6/
CATEGORIES:Termine aktive Wehr
END:VEVENT
BEGIN:VEVENT
DTSTART;TZID=Europe/Berlin:20261127T170000
DTEND;TZID=Europe/Berlin:20261127T190000
DTSTAMP:20260422T020410
CREATED:20251218T075747Z
LAST-MODIFIED:20251218T075747Z
UID:9138-1795798800-1795806000@ff-huettenbach.de
SUMMARY:Jugendfeuerwehr
DESCRIPTION:
URL:https://ff-huettenbach.de/event/jugendfeuerwehr-37/
CATEGORIES:Termine Jugendfeuerwehr
END:VEVENT
BEGIN:VEVENT
DTSTART;TZID=Europe/Berlin:20261129T083000
DTEND;TZID=Europe/Berlin:20261129T113000
DTSTAMP:20260422T020410
CREATED:20251218T075747Z
LAST-MODIFIED:20251218T075747Z
UID:9139-1795941000-1795951800@ff-huettenbach.de
SUMMARY:Übung
DESCRIPTION:
URL:https://ff-huettenbach.de/event/uebung-64/
CATEGORIES:Termine aktive Wehr
END:VEVENT
BEGIN:VEVENT
DTSTART;TZID=Europe/Berlin:20261201T190000
DTEND;TZID=Europe/Berlin:20261201T210000
DTSTAMP:20260422T020410
CREATED:20251218T075747Z
LAST-MODIFIED:20251218T075747Z
UID:9140-1796151600-1796158800@ff-huettenbach.de
SUMMARY:Gruppendienst Gr. 1
DESCRIPTION:
URL:https://ff-huettenbach.de/event/gruppendienst-gr-1-4/
CATEGORIES:Termine aktive Wehr
END:VEVENT
BEGIN:VEVENT
DTSTART;TZID=Europe/Berlin:20261204T170000
DTEND;TZID=Europe/Berlin:20261204T190000
DTSTAMP:20260422T020410
CREATED:20251218T075748Z
LAST-MODIFIED:20251218T075748Z
UID:9141-1796403600-1796410800@ff-huettenbach.de
SUMMARY:Jugendfeuerwehr
DESCRIPTION:
URL:https://ff-huettenbach.de/event/jugendfeuerwehr-38/
CATEGORIES:Termine Jugendfeuerwehr
END:VEVENT
BEGIN:VEVENT
DTSTART;TZID=Europe/Berlin:20261205T083000
DTEND;TZID=Europe/Berlin:20261205T103000
DTSTAMP:20260422T020410
CREATED:20251218T075748Z
LAST-MODIFIED:20251218T075748Z
UID:9142-1796459400-1796466600@ff-huettenbach.de
SUMMARY:Übung Sanitäter
DESCRIPTION:
URL:https://ff-huettenbach.de/event/uebung-sanitaeter-17/
CATEGORIES:Termine aktive Wehr
END:VEVENT
BEGIN:VEVENT
DTSTART;TZID=Europe/Berlin:20261211T170000
DTEND;TZID=Europe/Berlin:20261211T190000
DTSTAMP:20260422T020410
CREATED:20251218T075808Z
LAST-MODIFIED:20251218T075808Z
UID:9143-1797008400-1797015600@ff-huettenbach.de
SUMMARY:Jugendfeuerwehr
DESCRIPTION:
URL:https://ff-huettenbach.de/event/jugendfeuerwehr-39/
CATEGORIES:Termine Jugendfeuerwehr
END:VEVENT
BEGIN:VEVENT
DTSTART;TZID=Europe/Berlin:20261212T140000
DTEND;TZID=Europe/Berlin:20261212T160000
DTSTAMP:20260422T020410
CREATED:20251218T075808Z
LAST-MODIFIED:20251218T075808Z
UID:9144-1797084000-1797091200@ff-huettenbach.de
SUMMARY:Jahresabschluss
DESCRIPTION:
URL:https://ff-huettenbach.de/event/jahresabschluss-3/
CATEGORIES:Termine aktive Wehr
END:VEVENT
BEGIN:VEVENT
DTSTART;TZID=Europe/Berlin:20261216T200000
DTEND;TZID=Europe/Berlin:20261216T220000
DTSTAMP:20260422T020410
CREATED:20251218T075808Z
LAST-MODIFIED:20251218T075808Z
UID:9145-1797451200-1797458400@ff-huettenbach.de
SUMMARY:Vorstandschaftssitzung
DESCRIPTION:
URL:https://ff-huettenbach.de/event/vorstandschaftssitzung-23/
CATEGORIES:Termine Verein
END:VEVENT
BEGIN:VEVENT
DTSTART;TZID=Europe/Berlin:20261218T153000
DTEND;TZID=Europe/Berlin:20261218T173000
DTSTAMP:20260422T020410
CREATED:20251218T075808Z
LAST-MODIFIED:20251218T075808Z
UID:9146-1797607800-1797615000@ff-huettenbach.de
SUMMARY:Weihnachtsfeier
DESCRIPTION:
URL:https://ff-huettenbach.de/event/weihnachtsfeier/
CATEGORIES:Termine Kinderfeuerwehr
END:VEVENT
END:VCALENDAR