BEGIN:VCALENDAR
VERSION:2.0
PRODID:-//Freiwillige Feuerwehr Hüttenbach 1870 e.V. - ECPv6.15.20//NONSGML v1.0//EN
CALSCALE:GREGORIAN
METHOD:PUBLISH
X-ORIGINAL-URL:https://ff-huettenbach.de
X-WR-CALDESC:Veranstaltungen für Freiwillige Feuerwehr Hüttenbach 1870 e.V.
REFRESH-INTERVAL;VALUE=DURATION:PT1H
X-Robots-Tag:noindex
X-PUBLISHED-TTL:PT1H
BEGIN:VTIMEZONE
TZID:Europe/Paris
BEGIN:DAYLIGHT
TZOFFSETFROM:+0100
TZOFFSETTO:+0200
TZNAME:CEST
DTSTART:20240331T010000
END:DAYLIGHT
BEGIN:STANDARD
TZOFFSETFROM:+0200
TZOFFSETTO:+0100
TZNAME:CET
DTSTART:20241027T010000
END:STANDARD
BEGIN:DAYLIGHT
TZOFFSETFROM:+0100
TZOFFSETTO:+0200
TZNAME:CEST
DTSTART:20250330T010000
END:DAYLIGHT
BEGIN:STANDARD
TZOFFSETFROM:+0200
TZOFFSETTO:+0100
TZNAME:CET
DTSTART:20251026T010000
END:STANDARD
BEGIN:DAYLIGHT
TZOFFSETFROM:+0100
TZOFFSETTO:+0200
TZNAME:CEST
DTSTART:20260329T010000
END:DAYLIGHT
BEGIN:STANDARD
TZOFFSETFROM:+0200
TZOFFSETTO:+0100
TZNAME:CET
DTSTART:20261025T010000
END:STANDARD
END:VTIMEZONE
BEGIN:VEVENT
DTSTART;TZID=Europe/Paris:20250201T083000
DTEND;TZID=Europe/Paris:20250201T083000
DTSTAMP:20260422T115315
CREATED:20241230T212143Z
LAST-MODIFIED:20241230T212144Z
UID:6892-1738398600-1738398600@ff-huettenbach.de
SUMMARY:Übung Sanitäter
DESCRIPTION:
URL:https://ff-huettenbach.de/event/uebung-sanitaeter-3/
CATEGORIES:Termine aktive Wehr
END:VEVENT
BEGIN:VEVENT
DTSTART;TZID=Europe/Paris:20250203T190000
DTEND;TZID=Europe/Paris:20250203T190000
DTSTAMP:20260422T115315
CREATED:20241230T212230Z
LAST-MODIFIED:20241230T212230Z
UID:6898-1738609200-1738609200@ff-huettenbach.de
SUMMARY:Gruppendienst Gruppe 3
DESCRIPTION:
URL:https://ff-huettenbach.de/event/gruppendienst-gruppe-3/
CATEGORIES:Termine aktive Wehr
END:VEVENT
BEGIN:VEVENT
DTSTART;TZID=Europe/Paris:20250205T200000
DTEND;TZID=Europe/Paris:20250205T200000
DTSTAMP:20260422T115315
CREATED:20241230T201157Z
LAST-MODIFIED:20241230T212230Z
UID:6650-1738785600-1738785600@ff-huettenbach.de
SUMMARY:Vorstandschaftssitzung
DESCRIPTION:
URL:https://ff-huettenbach.de/event/__trashed-8__trashed/
CATEGORIES:Termine Verein
END:VEVENT
BEGIN:VEVENT
DTSTART;TZID=Europe/Paris:20250207T170000
DTEND;TZID=Europe/Paris:20250207T170000
DTSTAMP:20260422T115315
CREATED:20241230T212230Z
LAST-MODIFIED:20250207T150110Z
UID:6899-1738947600-1738947600@ff-huettenbach.de
SUMMARY:Jugendfeuerwehr Übung
DESCRIPTION:
URL:https://ff-huettenbach.de/event/uebung-16/
CATEGORIES:Termine Jugendfeuerwehr
END:VEVENT
BEGIN:VEVENT
DTSTART;TZID=Europe/Paris:20250210T190000
DTEND;TZID=Europe/Paris:20250210T190000
DTSTAMP:20260422T115315
CREATED:20241230T212230Z
LAST-MODIFIED:20241230T212230Z
UID:6900-1739214000-1739214000@ff-huettenbach.de
SUMMARY:Übung A
DESCRIPTION:
URL:https://ff-huettenbach.de/event/uebung-a-5/
CATEGORIES:Termine aktive Wehr
END:VEVENT
BEGIN:VEVENT
DTSTART;TZID=Europe/Paris:20250214T170000
DTEND;TZID=Europe/Paris:20250214T170000
DTSTAMP:20260422T115315
CREATED:20241230T212230Z
LAST-MODIFIED:20250207T150106Z
UID:6901-1739552400-1739552400@ff-huettenbach.de
SUMMARY:Jugendfeuerwehr Übung
DESCRIPTION:
URL:https://ff-huettenbach.de/event/uebung-17/
CATEGORIES:Termine Jugendfeuerwehr
END:VEVENT
BEGIN:VEVENT
DTSTART;TZID=Europe/Paris:20250217T190000
DTEND;TZID=Europe/Paris:20250217T190000
DTSTAMP:20260422T115315
CREATED:20241230T212245Z
LAST-MODIFIED:20241230T212245Z
UID:6903-1739818800-1739818800@ff-huettenbach.de
SUMMARY:Übung Atemschutz
DESCRIPTION:
URL:https://ff-huettenbach.de/event/uebung-atemschutz/
CATEGORIES:Termine aktive Wehr
END:VEVENT
BEGIN:VEVENT
DTSTART;TZID=Europe/Paris:20250219T200000
DTEND;TZID=Europe/Paris:20250219T200000
DTSTAMP:20260422T115315
CREATED:20241230T201157Z
LAST-MODIFIED:20241230T212245Z
UID:6655-1739995200-1739995200@ff-huettenbach.de
SUMMARY:Vorstandschaftssitzung
DESCRIPTION:
URL:https://ff-huettenbach.de/event/__trashed-3__trashed/
CATEGORIES:Termine Verein
END:VEVENT
BEGIN:VEVENT
DTSTART;TZID=Europe/Paris:20250221T170000
DTEND;TZID=Europe/Paris:20250221T170000
DTSTAMP:20260422T115315
CREATED:20241230T212245Z
LAST-MODIFIED:20250207T150102Z
UID:6904-1740157200-1740157200@ff-huettenbach.de
SUMMARY:Jugendfeuerwehr Übung
DESCRIPTION:
URL:https://ff-huettenbach.de/event/uebung-18/
CATEGORIES:Termine Jugendfeuerwehr
END:VEVENT
BEGIN:VEVENT
DTSTART;TZID=Europe/Paris:20250223T083000
DTEND;TZID=Europe/Paris:20250223T083000
DTSTAMP:20260422T115315
CREATED:20241230T212245Z
LAST-MODIFIED:20241230T212245Z
UID:6905-1740299400-1740299400@ff-huettenbach.de
SUMMARY:Übung
DESCRIPTION:
URL:https://ff-huettenbach.de/event/uebung-19/
CATEGORIES:Termine aktive Wehr
END:VEVENT
BEGIN:VEVENT
DTSTART;TZID=Europe/Paris:20250228T170000
DTEND;TZID=Europe/Paris:20250228T170000
DTSTAMP:20260422T115315
CREATED:20241230T212259Z
LAST-MODIFIED:20250207T150058Z
UID:6906-1740762000-1740762000@ff-huettenbach.de
SUMMARY:Jugendfeuerwehr Übung
DESCRIPTION:
URL:https://ff-huettenbach.de/event/uebung-20/
CATEGORIES:Termine Jugendfeuerwehr
END:VEVENT
END:VCALENDAR