BEGIN:VCALENDAR
VERSION:2.0
PRODID:-//Freiwillige Feuerwehr Hüttenbach 1870 e.V. - ECPv6.15.20//NONSGML v1.0//EN
CALSCALE:GREGORIAN
METHOD:PUBLISH
X-ORIGINAL-URL:https://ff-huettenbach.de
X-WR-CALDESC:Veranstaltungen für Freiwillige Feuerwehr Hüttenbach 1870 e.V.
REFRESH-INTERVAL;VALUE=DURATION:PT1H
X-Robots-Tag:noindex
X-PUBLISHED-TTL:PT1H
BEGIN:VTIMEZONE
TZID:Europe/Paris
BEGIN:DAYLIGHT
TZOFFSETFROM:+0100
TZOFFSETTO:+0200
TZNAME:CEST
DTSTART:20240331T010000
END:DAYLIGHT
BEGIN:STANDARD
TZOFFSETFROM:+0200
TZOFFSETTO:+0100
TZNAME:CET
DTSTART:20241027T010000
END:STANDARD
BEGIN:DAYLIGHT
TZOFFSETFROM:+0100
TZOFFSETTO:+0200
TZNAME:CEST
DTSTART:20250330T010000
END:DAYLIGHT
BEGIN:STANDARD
TZOFFSETFROM:+0200
TZOFFSETTO:+0100
TZNAME:CET
DTSTART:20251026T010000
END:STANDARD
BEGIN:DAYLIGHT
TZOFFSETFROM:+0100
TZOFFSETTO:+0200
TZNAME:CEST
DTSTART:20260329T010000
END:DAYLIGHT
BEGIN:STANDARD
TZOFFSETFROM:+0200
TZOFFSETTO:+0100
TZNAME:CET
DTSTART:20261025T010000
END:STANDARD
END:VTIMEZONE
BEGIN:VEVENT
DTSTART;TZID=Europe/Paris:20250302T083000
DTEND;TZID=Europe/Paris:20250302T083000
DTSTAMP:20260422T102334
CREATED:20241230T212259Z
LAST-MODIFIED:20241230T212259Z
UID:6907-1740904200-1740904200@ff-huettenbach.de
SUMMARY:Übung Sanitäter
DESCRIPTION:
URL:https://ff-huettenbach.de/event/uebung-sanitaeter-4/
CATEGORIES:Termine aktive Wehr
END:VEVENT
BEGIN:VEVENT
DTSTART;TZID=Europe/Paris:20250303T170000
DTEND;TZID=Europe/Paris:20250303T170000
DTSTAMP:20260422T102334
CREATED:20241230T201212Z
LAST-MODIFIED:20241230T212259Z
UID:6659-1741021200-1741021200@ff-huettenbach.de
SUMMARY:Kappenabend
DESCRIPTION:
URL:https://ff-huettenbach.de/event/__trashed-37__trashed/
CATEGORIES:Termine Verein
END:VEVENT
BEGIN:VEVENT
DTSTART;TZID=Europe/Paris:20250307T170000
DTEND;TZID=Europe/Paris:20250307T170000
DTSTAMP:20260422T102334
CREATED:20241230T212259Z
LAST-MODIFIED:20250207T150056Z
UID:6908-1741366800-1741366800@ff-huettenbach.de
SUMMARY:Jugendfeuerwehr Übung
DESCRIPTION:
URL:https://ff-huettenbach.de/event/uebung-21/
CATEGORIES:Termine Jugendfeuerwehr
END:VEVENT
BEGIN:VEVENT
DTSTART;TZID=Europe/Paris:20250310T190000
DTEND;TZID=Europe/Paris:20250310T190000
DTSTAMP:20260422T102334
CREATED:20241230T212259Z
LAST-MODIFIED:20241230T212259Z
UID:6909-1741633200-1741633200@ff-huettenbach.de
SUMMARY:Gruppendienst Gruppe 1
DESCRIPTION:
URL:https://ff-huettenbach.de/event/gruppendienst-gruppe-1/
CATEGORIES:Termine aktive Wehr
END:VEVENT
BEGIN:VEVENT
DTSTART;TZID=Europe/Paris:20250314T170000
DTEND;TZID=Europe/Paris:20250314T170000
DTSTAMP:20260422T102334
CREATED:20241230T212315Z
LAST-MODIFIED:20250207T150051Z
UID:6910-1741971600-1741971600@ff-huettenbach.de
SUMMARY:Jugendfeuerwehr Übung
DESCRIPTION:
URL:https://ff-huettenbach.de/event/uebung-22/
CATEGORIES:Termine Jugendfeuerwehr
END:VEVENT
BEGIN:VEVENT
DTSTART;TZID=Europe/Paris:20250317T190000
DTEND;TZID=Europe/Paris:20250317T190000
DTSTAMP:20260422T102334
CREATED:20241230T212315Z
LAST-MODIFIED:20241230T212315Z
UID:6911-1742238000-1742238000@ff-huettenbach.de
SUMMARY:Übung B
DESCRIPTION:
URL:https://ff-huettenbach.de/event/uebung-b-5/
CATEGORIES:Termine aktive Wehr
END:VEVENT
BEGIN:VEVENT
DTSTART;TZID=Europe/Paris:20250319T200000
DTEND;TZID=Europe/Paris:20250319T200000
DTSTAMP:20260422T102334
CREATED:20241230T201211Z
LAST-MODIFIED:20241230T212315Z
UID:6664-1742414400-1742414400@ff-huettenbach.de
SUMMARY:Vorstandschaftssitzung
DESCRIPTION:
URL:https://ff-huettenbach.de/event/__trashed-32__trashed/
CATEGORIES:Termine Verein
END:VEVENT
BEGIN:VEVENT
DTSTART;TZID=Europe/Paris:20250321T170000
DTEND;TZID=Europe/Paris:20250321T170000
DTSTAMP:20260422T102334
CREATED:20241230T212315Z
LAST-MODIFIED:20250207T150043Z
UID:6912-1742576400-1742576400@ff-huettenbach.de
SUMMARY:Jugendfeuerwehr Übung
DESCRIPTION:
URL:https://ff-huettenbach.de/event/uebung-23/
CATEGORIES:Termine Jugendfeuerwehr
END:VEVENT
BEGIN:VEVENT
DTSTART;TZID=Europe/Paris:20250325T190000
DTEND;TZID=Europe/Paris:20250325T190000
DTSTAMP:20260422T102334
CREATED:20241230T212315Z
LAST-MODIFIED:20241230T212315Z
UID:6913-1742929200-1742929200@ff-huettenbach.de
SUMMARY:Leistungsabzeichen
DESCRIPTION:
URL:https://ff-huettenbach.de/event/leistungsabzeichen/
CATEGORIES:Termine aktive Wehr
END:VEVENT
BEGIN:VEVENT
DTSTART;TZID=Europe/Paris:20250327T190000
DTEND;TZID=Europe/Paris:20250327T190000
DTSTAMP:20260422T102334
CREATED:20241230T212329Z
LAST-MODIFIED:20241230T212329Z
UID:6914-1743102000-1743102000@ff-huettenbach.de
SUMMARY:Leistungsabzeichen
DESCRIPTION:
URL:https://ff-huettenbach.de/event/leistungsabzeichen-2/
CATEGORIES:Termine aktive Wehr
END:VEVENT
BEGIN:VEVENT
DTSTART;TZID=Europe/Paris:20250328T170000
DTEND;TZID=Europe/Paris:20250328T170000
DTSTAMP:20260422T102334
CREATED:20241230T212329Z
LAST-MODIFIED:20250207T150131Z
UID:6915-1743181200-1743181200@ff-huettenbach.de
SUMMARY:Jugendfeuerwehr Übung
DESCRIPTION:
URL:https://ff-huettenbach.de/event/uebung-24/
CATEGORIES:Termine Jugendfeuerwehr
END:VEVENT
BEGIN:VEVENT
DTSTART;TZID=Europe/Paris:20250330T083000
DTEND;TZID=Europe/Paris:20250330T083000
DTSTAMP:20260422T102334
CREATED:20241230T212329Z
LAST-MODIFIED:20241230T213113Z
UID:6916-1743323400-1743323400@ff-huettenbach.de
SUMMARY:Übung
DESCRIPTION:
URL:https://ff-huettenbach.de/event/alle/
CATEGORIES:Termine aktive Wehr
END:VEVENT
END:VCALENDAR