BEGIN:VCALENDAR
VERSION:2.0
PRODID:-//Freiwillige Feuerwehr Hüttenbach 1870 e.V. - ECPv6.15.20//NONSGML v1.0//EN
CALSCALE:GREGORIAN
METHOD:PUBLISH
X-WR-CALNAME:Freiwillige Feuerwehr Hüttenbach 1870 e.V.
X-ORIGINAL-URL:https://ff-huettenbach.de
X-WR-CALDESC:Veranstaltungen für Freiwillige Feuerwehr Hüttenbach 1870 e.V.
REFRESH-INTERVAL;VALUE=DURATION:PT1H
X-Robots-Tag:noindex
X-PUBLISHED-TTL:PT1H
BEGIN:VTIMEZONE
TZID:Europe/Paris
BEGIN:DAYLIGHT
TZOFFSETFROM:+0100
TZOFFSETTO:+0200
TZNAME:CEST
DTSTART:20240331T010000
END:DAYLIGHT
BEGIN:STANDARD
TZOFFSETFROM:+0200
TZOFFSETTO:+0100
TZNAME:CET
DTSTART:20241027T010000
END:STANDARD
BEGIN:DAYLIGHT
TZOFFSETFROM:+0100
TZOFFSETTO:+0200
TZNAME:CEST
DTSTART:20250330T010000
END:DAYLIGHT
BEGIN:STANDARD
TZOFFSETFROM:+0200
TZOFFSETTO:+0100
TZNAME:CET
DTSTART:20251026T010000
END:STANDARD
BEGIN:DAYLIGHT
TZOFFSETFROM:+0100
TZOFFSETTO:+0200
TZNAME:CEST
DTSTART:20260329T010000
END:DAYLIGHT
BEGIN:STANDARD
TZOFFSETFROM:+0200
TZOFFSETTO:+0100
TZNAME:CET
DTSTART:20261025T010000
END:STANDARD
END:VTIMEZONE
BEGIN:VEVENT
DTSTART;TZID=Europe/Paris:20250701T173000
DTEND;TZID=Europe/Paris:20250701T173000
DTSTAMP:20260422T034258
CREATED:20241230T212514Z
LAST-MODIFIED:20241230T212514Z
UID:6942-1751391000-1751391000@ff-huettenbach.de
SUMMARY:Verkehrsabsicherung Kirwa
DESCRIPTION:
URL:https://ff-huettenbach.de/event/verkehrsabsicherung-kirwa-2/
CATEGORIES:Termine aktive Wehr
END:VEVENT
BEGIN:VEVENT
DTSTART;TZID=Europe/Paris:20250704T170000
DTEND;TZID=Europe/Paris:20250704T170000
DTSTAMP:20260422T034258
CREATED:20241230T212514Z
LAST-MODIFIED:20250207T150158Z
UID:6943-1751648400-1751648400@ff-huettenbach.de
SUMMARY:Jugendfeuerwehr Übung
DESCRIPTION:
URL:https://ff-huettenbach.de/event/uebung-33/
CATEGORIES:Termine Jugendfeuerwehr
END:VEVENT
BEGIN:VEVENT
DTSTART;TZID=Europe/Paris:20250706T100000
DTEND;TZID=Europe/Paris:20250706T100000
DTSTAMP:20260422T034258
CREATED:20241230T201231Z
LAST-MODIFIED:20241230T212514Z
UID:6704-1751796000-1751796000@ff-huettenbach.de
SUMMARY:Grillfest Diepoltsdorf
DESCRIPTION:
URL:https://ff-huettenbach.de/event/__trashed-72__trashed/
CATEGORIES:Termine Verein
END:VEVENT
BEGIN:VEVENT
DTSTART;TZID=Europe/Paris:20250707T190000
DTEND;TZID=Europe/Paris:20250707T190000
DTSTAMP:20260422T034258
CREATED:20241230T212532Z
LAST-MODIFIED:20241230T212532Z
UID:6944-1751914800-1751914800@ff-huettenbach.de
SUMMARY:Gruppendienst Gruppe 2
DESCRIPTION:
URL:https://ff-huettenbach.de/event/gruppendienst-gruppe-2-2/
CATEGORIES:Termine aktive Wehr
END:VEVENT
BEGIN:VEVENT
DTSTART;TZID=Europe/Paris:20250714T190000
DTEND;TZID=Europe/Paris:20250714T190000
DTSTAMP:20260422T034258
CREATED:20241230T212532Z
LAST-MODIFIED:20241230T212532Z
UID:6945-1752519600-1752519600@ff-huettenbach.de
SUMMARY:Übung A
DESCRIPTION:
URL:https://ff-huettenbach.de/event/uebung-a-7/
CATEGORIES:Termine aktive Wehr
END:VEVENT
BEGIN:VEVENT
DTSTART;TZID=Europe/Paris:20250716T200000
DTEND;TZID=Europe/Paris:20250716T200000
DTSTAMP:20260422T034258
CREATED:20241230T201231Z
LAST-MODIFIED:20241230T212533Z
UID:6707-1752696000-1752696000@ff-huettenbach.de
SUMMARY:Vorstandschaftssitzung
DESCRIPTION:
URL:https://ff-huettenbach.de/event/__trashed-69__trashed/
CATEGORIES:Termine Verein
END:VEVENT
BEGIN:VEVENT
DTSTART;TZID=Europe/Paris:20250718T170000
DTEND;TZID=Europe/Paris:20250718T170000
DTSTAMP:20260422T034258
CREATED:20241230T212533Z
LAST-MODIFIED:20250207T150206Z
UID:6946-1752858000-1752858000@ff-huettenbach.de
SUMMARY:Jugendfeuerwehr Übung
DESCRIPTION:
URL:https://ff-huettenbach.de/event/uebung-34/
CATEGORIES:Termine Jugendfeuerwehr
END:VEVENT
BEGIN:VEVENT
DTSTART;TZID=Europe/Paris:20250719T053000
DTEND;TZID=Europe/Paris:20250719T053000
DTSTAMP:20260422T034258
CREATED:20241230T212545Z
LAST-MODIFIED:20241230T212545Z
UID:6948-1752903000-1752903000@ff-huettenbach.de
SUMMARY:Verkehrsabsicherung Wallfahrt Gößweinstein
DESCRIPTION:
URL:https://ff-huettenbach.de/event/verkehrsabsicherung-wallfahrt-goessweinstein/
CATEGORIES:Termine aktive Wehr
END:VEVENT
BEGIN:VEVENT
DTSTART;TZID=Europe/Paris:20250719T083000
DTEND;TZID=Europe/Paris:20250719T083000
DTSTAMP:20260422T034258
CREATED:20241230T212533Z
LAST-MODIFIED:20250103T220231Z
UID:6947-1752913800-1752913800@ff-huettenbach.de
SUMMARY:Abnahme Jugendflamme
DESCRIPTION:
URL:https://ff-huettenbach.de/event/uebung-35/
CATEGORIES:Termine Jugendfeuerwehr
END:VEVENT
BEGIN:VEVENT
DTSTART;TZID=Europe/Paris:20250720T060000
DTEND;TZID=Europe/Paris:20250720T060000
DTSTAMP:20260422T034258
CREATED:20241230T212545Z
LAST-MODIFIED:20241230T212545Z
UID:6949-1752991200-1752991200@ff-huettenbach.de
SUMMARY:Verkehrsabsicherung Wallfahrt Gößweinstein
DESCRIPTION:
URL:https://ff-huettenbach.de/event/verkehrsabsicherung-wallfahrt-goessweinstein-2/
CATEGORIES:Termine aktive Wehr
END:VEVENT
BEGIN:VEVENT
DTSTART;TZID=Europe/Paris:20250720T130000
DTEND;TZID=Europe/Paris:20250720T130000
DTSTAMP:20260422T034258
CREATED:20241230T201231Z
LAST-MODIFIED:20241230T212545Z
UID:6712-1753016400-1753016400@ff-huettenbach.de
SUMMARY:Festzug Osternohe
DESCRIPTION:
URL:https://ff-huettenbach.de/event/__trashed-64__trashed/
CATEGORIES:Termine Verein
END:VEVENT
BEGIN:VEVENT
DTSTART;TZID=Europe/Paris:20250721T190000
DTEND;TZID=Europe/Paris:20250721T190000
DTSTAMP:20260422T034258
CREATED:20241230T212545Z
LAST-MODIFIED:20241230T212545Z
UID:6950-1753124400-1753124400@ff-huettenbach.de
SUMMARY:Übung Maschinisten
DESCRIPTION:
URL:https://ff-huettenbach.de/event/uebung-maschinisten-2/
CATEGORIES:Termine aktive Wehr
END:VEVENT
BEGIN:VEVENT
DTSTART;TZID=Europe/Paris:20250725T170000
DTEND;TZID=Europe/Paris:20250725T170000
DTSTAMP:20260422T034258
CREATED:20241230T212545Z
LAST-MODIFIED:20250207T150211Z
UID:6951-1753462800-1753462800@ff-huettenbach.de
SUMMARY:Jugendfeuerwehr Übung
DESCRIPTION:
URL:https://ff-huettenbach.de/event/uebung-36/
CATEGORIES:Termine Jugendfeuerwehr
END:VEVENT
BEGIN:VEVENT
DTSTART;TZID=Europe/Paris:20250727T083000
DTEND;TZID=Europe/Paris:20250727T083000
DTSTAMP:20260422T034258
CREATED:20241230T212559Z
LAST-MODIFIED:20241230T212559Z
UID:6952-1753605000-1753605000@ff-huettenbach.de
SUMMARY:Übung
DESCRIPTION:
URL:https://ff-huettenbach.de/event/uebung-37/
CATEGORIES:Termine aktive Wehr
END:VEVENT
BEGIN:VEVENT
DTSTART;TZID=Europe/Paris:20250729T200000
DTEND;TZID=Europe/Paris:20250729T200000
DTSTAMP:20260422T034258
CREATED:20241230T201231Z
LAST-MODIFIED:20241230T212559Z
UID:6715-1753819200-1753819200@ff-huettenbach.de
SUMMARY:Vorstandschaftssitzung
DESCRIPTION:
URL:https://ff-huettenbach.de/event/__trashed-61__trashed/
CATEGORIES:Termine Verein
END:VEVENT
END:VCALENDAR