BEGIN:VCALENDAR
VERSION:2.0
PRODID:-//Freiwillige Feuerwehr Hüttenbach 1870 e.V. - ECPv6.15.20//NONSGML v1.0//EN
CALSCALE:GREGORIAN
METHOD:PUBLISH
X-WR-CALNAME:Freiwillige Feuerwehr Hüttenbach 1870 e.V.
X-ORIGINAL-URL:https://ff-huettenbach.de
X-WR-CALDESC:Veranstaltungen für Freiwillige Feuerwehr Hüttenbach 1870 e.V.
REFRESH-INTERVAL;VALUE=DURATION:PT1H
X-Robots-Tag:noindex
X-PUBLISHED-TTL:PT1H
BEGIN:VTIMEZONE
TZID:Europe/Paris
BEGIN:DAYLIGHT
TZOFFSETFROM:+0100
TZOFFSETTO:+0200
TZNAME:CEST
DTSTART:20240331T010000
END:DAYLIGHT
BEGIN:STANDARD
TZOFFSETFROM:+0200
TZOFFSETTO:+0100
TZNAME:CET
DTSTART:20241027T010000
END:STANDARD
BEGIN:DAYLIGHT
TZOFFSETFROM:+0100
TZOFFSETTO:+0200
TZNAME:CEST
DTSTART:20250330T010000
END:DAYLIGHT
BEGIN:STANDARD
TZOFFSETFROM:+0200
TZOFFSETTO:+0100
TZNAME:CET
DTSTART:20251026T010000
END:STANDARD
BEGIN:DAYLIGHT
TZOFFSETFROM:+0100
TZOFFSETTO:+0200
TZNAME:CEST
DTSTART:20260329T010000
END:DAYLIGHT
BEGIN:STANDARD
TZOFFSETFROM:+0200
TZOFFSETTO:+0100
TZNAME:CET
DTSTART:20261025T010000
END:STANDARD
END:VTIMEZONE
BEGIN:VEVENT
DTSTART;TZID=Europe/Paris:20250901T190000
DTEND;TZID=Europe/Paris:20250901T190000
DTSTAMP:20260422T002439
CREATED:20241230T212617Z
LAST-MODIFIED:20241230T212617Z
UID:6958-1756753200-1756753200@ff-huettenbach.de
SUMMARY:Gruppendienst Gruppe 1
DESCRIPTION:
URL:https://ff-huettenbach.de/event/gruppendienst-gruppe-1-3/
CATEGORIES:Termine aktive Wehr
END:VEVENT
BEGIN:VEVENT
DTSTART;TZID=Europe/Paris:20250903T200000
DTEND;TZID=Europe/Paris:20250903T200000
DTSTAMP:20260422T002439
CREATED:20241230T212617Z
LAST-MODIFIED:20241230T212617Z
UID:6959-1756929600-1756929600@ff-huettenbach.de
SUMMARY:Gruppenführersitzung
DESCRIPTION:
URL:https://ff-huettenbach.de/event/gruppenfuehrersitzung-7/
CATEGORIES:Termine aktive Wehr
END:VEVENT
BEGIN:VEVENT
DTSTART;TZID=Europe/Paris:20250905T170000
DTEND;TZID=Europe/Paris:20250905T170000
DTSTAMP:20260422T002439
CREATED:20241230T212629Z
LAST-MODIFIED:20250207T150222Z
UID:6960-1757091600-1757091600@ff-huettenbach.de
SUMMARY:Jugendfeuerwehr Übung
DESCRIPTION:
URL:https://ff-huettenbach.de/event/uebung-40/
CATEGORIES:Termine Jugendfeuerwehr
END:VEVENT
BEGIN:VEVENT
DTSTART;TZID=Europe/Paris:20250907T100000
DTEND;TZID=Europe/Paris:20250907T100000
DTSTAMP:20260422T002439
CREATED:20241230T201240Z
LAST-MODIFIED:20241230T212629Z
UID:6724-1757239200-1757239200@ff-huettenbach.de
SUMMARY:Grillfest Ittling
DESCRIPTION:
URL:https://ff-huettenbach.de/event/__trashed-92__trashed/
CATEGORIES:Termine Verein
END:VEVENT
BEGIN:VEVENT
DTSTART;TZID=Europe/Paris:20250908T190000
DTEND;TZID=Europe/Paris:20250908T190000
DTSTAMP:20260422T002439
CREATED:20241230T212629Z
LAST-MODIFIED:20241230T212629Z
UID:6961-1757358000-1757358000@ff-huettenbach.de
SUMMARY:Übung Atemschutz
DESCRIPTION:
URL:https://ff-huettenbach.de/event/uebung-atemschutz-2/
CATEGORIES:Termine aktive Wehr
END:VEVENT
BEGIN:VEVENT
DTSTART;TZID=Europe/Paris:20250910T200000
DTEND;TZID=Europe/Paris:20250910T200000
DTSTAMP:20260422T002439
CREATED:20241230T201240Z
LAST-MODIFIED:20241230T212629Z
UID:6725-1757534400-1757534400@ff-huettenbach.de
SUMMARY:Vorstandschaftssitzung
DESCRIPTION:
URL:https://ff-huettenbach.de/event/__trashed-91__trashed/
CATEGORIES:Termine Verein
END:VEVENT
BEGIN:VEVENT
DTSTART;TZID=Europe/Paris:20250912T170000
DTEND;TZID=Europe/Paris:20250912T170000
DTSTAMP:20260422T002439
CREATED:20241230T212629Z
LAST-MODIFIED:20250207T150227Z
UID:6962-1757696400-1757696400@ff-huettenbach.de
SUMMARY:Jugendfeuerwehr Übung
DESCRIPTION:
URL:https://ff-huettenbach.de/event/uebung-41/
CATEGORIES:Termine Jugendfeuerwehr
END:VEVENT
BEGIN:VEVENT
DTSTART;TZID=Europe/Paris:20250913T090000
DTEND;TZID=Europe/Paris:20250913T090000
DTSTAMP:20260422T002439
CREATED:20241230T212645Z
LAST-MODIFIED:20241230T212645Z
UID:6963-1757754000-1757754000@ff-huettenbach.de
SUMMARY:Vorbereitung Herbstfest
DESCRIPTION:
URL:https://ff-huettenbach.de/event/vorbereitung-herbstfest/
CATEGORIES:Termine Verein
END:VEVENT
BEGIN:VEVENT
DTSTART;TZID=Europe/Paris:20250913T090000
DTEND;TZID=Europe/Paris:20250913T160000
DTSTAMP:20260422T002439
CREATED:20250416T155523Z
LAST-MODIFIED:20250416T155523Z
UID:8803-1757754000-1757779200@ff-huettenbach.de
SUMMARY:Vorbereitung Herbstfest
DESCRIPTION:
URL:https://ff-huettenbach.de/event/vorbereitung-herbstfest-2/
CATEGORIES:Termine aktive Wehr
END:VEVENT
BEGIN:VEVENT
DTSTART;TZID=Europe/Paris:20250914T100000
DTEND;TZID=Europe/Paris:20250914T210000
DTSTAMP:20260422T002439
CREATED:20241230T212645Z
LAST-MODIFIED:20250416T155429Z
UID:6964-1757844000-1757883600@ff-huettenbach.de
SUMMARY:Herbstfest
DESCRIPTION:
URL:https://ff-huettenbach.de/event/herbstfest-2/
CATEGORIES:Termine Verein
END:VEVENT
BEGIN:VEVENT
DTSTART;TZID=Europe/Paris:20250915T100000
DTEND;TZID=Europe/Paris:20250915T140000
DTSTAMP:20260422T002439
CREATED:20250416T155559Z
LAST-MODIFIED:20250416T155559Z
UID:8805-1757930400-1757944800@ff-huettenbach.de
SUMMARY:Aufräumen Herbstfest
DESCRIPTION:
URL:https://ff-huettenbach.de/event/aufraeumen-herbstfest/
CATEGORIES:Termine aktive Wehr
END:VEVENT
BEGIN:VEVENT
DTSTART;TZID=Europe/Paris:20250919T170000
DTEND;TZID=Europe/Paris:20250919T170000
DTSTAMP:20260422T002439
CREATED:20241230T212645Z
LAST-MODIFIED:20250207T150231Z
UID:6965-1758301200-1758301200@ff-huettenbach.de
SUMMARY:Jugendfeuerwehr Übung
DESCRIPTION:
URL:https://ff-huettenbach.de/event/uebung-42/
CATEGORIES:Termine Jugendfeuerwehr
END:VEVENT
BEGIN:VEVENT
DTSTART;TZID=Europe/Paris:20250922T190000
DTEND;TZID=Europe/Paris:20250922T190000
DTSTAMP:20260422T002439
CREATED:20241230T212645Z
LAST-MODIFIED:20241230T212645Z
UID:6966-1758567600-1758567600@ff-huettenbach.de
SUMMARY:Übung B
DESCRIPTION:
URL:https://ff-huettenbach.de/event/uebung-b-7/
CATEGORIES:Termine aktive Wehr
END:VEVENT
BEGIN:VEVENT
DTSTART;TZID=Europe/Paris:20250926T170000
DTEND;TZID=Europe/Paris:20250926T170000
DTSTAMP:20260422T002439
CREATED:20241230T212645Z
LAST-MODIFIED:20250207T150235Z
UID:6967-1758906000-1758906000@ff-huettenbach.de
SUMMARY:Jugendfeuerwehr Übung
DESCRIPTION:
URL:https://ff-huettenbach.de/event/uebung-43/
CATEGORIES:Termine Jugendfeuerwehr
END:VEVENT
BEGIN:VEVENT
DTSTART;TZID=Europe/Paris:20250927T083000
DTEND;TZID=Europe/Paris:20250927T083000
DTSTAMP:20260422T002439
CREATED:20241230T212659Z
LAST-MODIFIED:20250103T220307Z
UID:6968-1758961800-1758961800@ff-huettenbach.de
SUMMARY:Ausflug N-Land
DESCRIPTION:
URL:https://ff-huettenbach.de/event/uebung-44/
CATEGORIES:Termine Jugendfeuerwehr
END:VEVENT
BEGIN:VEVENT
DTSTART;TZID=Europe/Paris:20250927T160000
DTEND;TZID=Europe/Paris:20250927T160000
DTSTAMP:20260422T002439
CREATED:20241230T201239Z
LAST-MODIFIED:20241230T212659Z
UID:6733-1758988800-1758988800@ff-huettenbach.de
SUMMARY:Lange Nacht der Feuerwehr
DESCRIPTION:
URL:https://ff-huettenbach.de/event/__trashed-82__trashed/
CATEGORIES:Termine Verein
END:VEVENT
END:VCALENDAR