BEGIN:VCALENDAR
VERSION:2.0
PRODID:-//Freiwillige Feuerwehr Hüttenbach 1870 e.V. - ECPv6.15.20//NONSGML v1.0//EN
CALSCALE:GREGORIAN
METHOD:PUBLISH
X-ORIGINAL-URL:https://ff-huettenbach.de
X-WR-CALDESC:Veranstaltungen für Freiwillige Feuerwehr Hüttenbach 1870 e.V.
REFRESH-INTERVAL;VALUE=DURATION:PT1H
X-Robots-Tag:noindex
X-PUBLISHED-TTL:PT1H
BEGIN:VTIMEZONE
TZID:Europe/Berlin
BEGIN:DAYLIGHT
TZOFFSETFROM:+0100
TZOFFSETTO:+0200
TZNAME:CEST
DTSTART:20250330T010000
END:DAYLIGHT
BEGIN:STANDARD
TZOFFSETFROM:+0200
TZOFFSETTO:+0100
TZNAME:CET
DTSTART:20251026T010000
END:STANDARD
BEGIN:DAYLIGHT
TZOFFSETFROM:+0100
TZOFFSETTO:+0200
TZNAME:CEST
DTSTART:20260329T010000
END:DAYLIGHT
BEGIN:STANDARD
TZOFFSETFROM:+0200
TZOFFSETTO:+0100
TZNAME:CET
DTSTART:20261025T010000
END:STANDARD
BEGIN:DAYLIGHT
TZOFFSETFROM:+0100
TZOFFSETTO:+0200
TZNAME:CEST
DTSTART:20270328T010000
END:DAYLIGHT
BEGIN:STANDARD
TZOFFSETFROM:+0200
TZOFFSETTO:+0100
TZNAME:CET
DTSTART:20271031T010000
END:STANDARD
END:VTIMEZONE
BEGIN:VEVENT
DTSTART;TZID=Europe/Berlin:20260105T190000
DTEND;TZID=Europe/Berlin:20260105T210000
DTSTAMP:20260421T181214
CREATED:20251218T073510Z
LAST-MODIFIED:20251218T073510Z
UID:8983-1767639600-1767646800@ff-huettenbach.de
SUMMARY:Gruppendienst Gr. 2
DESCRIPTION:
URL:https://ff-huettenbach.de/event/gruppendienst-gr-2/
CATEGORIES:Termine aktive Wehr
END:VEVENT
BEGIN:VEVENT
DTSTART;TZID=Europe/Berlin:20260109T200000
DTEND;TZID=Europe/Berlin:20260109T220000
DTSTAMP:20260421T181214
CREATED:20251218T073510Z
LAST-MODIFIED:20251218T073510Z
UID:8984-1767988800-1767996000@ff-huettenbach.de
SUMMARY:Generalversammlung
DESCRIPTION:
URL:https://ff-huettenbach.de/event/generalversammlung-2/
CATEGORIES:Termine Verein
END:VEVENT
BEGIN:VEVENT
DTSTART;TZID=Europe/Berlin:20260110T090000
DTEND;TZID=Europe/Berlin:20260110T160000
DTSTAMP:20260421T181214
CREATED:20251218T073511Z
LAST-MODIFIED:20251218T073511Z
UID:8985-1768035600-1768060800@ff-huettenbach.de
SUMMARY:Christbaumsammelaktion
DESCRIPTION:
URL:https://ff-huettenbach.de/event/christbaumsammelaktion/
CATEGORIES:Termine Jugendfeuerwehr
END:VEVENT
BEGIN:VEVENT
DTSTART;TZID=Europe/Berlin:20260116T153000
DTEND;TZID=Europe/Berlin:20260116T163000
DTSTAMP:20260421T181214
CREATED:20251218T073511Z
LAST-MODIFIED:20251218T073511Z
UID:8986-1768577400-1768581000@ff-huettenbach.de
SUMMARY:Kinderfeuerwehr
DESCRIPTION:
URL:https://ff-huettenbach.de/event/kinderfeuerwehr/
CATEGORIES:Termine Kinderfeuerwehr
END:VEVENT
BEGIN:VEVENT
DTSTART;TZID=Europe/Berlin:20260116T170000
DTEND;TZID=Europe/Berlin:20260116T190000
DTSTAMP:20260421T181214
CREATED:20251218T073511Z
LAST-MODIFIED:20251218T073511Z
UID:8987-1768582800-1768590000@ff-huettenbach.de
SUMMARY:Jugendfeuerwehr
DESCRIPTION:
URL:https://ff-huettenbach.de/event/jugendfeuerwehr/
CATEGORIES:Termine Jugendfeuerwehr
END:VEVENT
BEGIN:VEVENT
DTSTART;TZID=Europe/Berlin:20260119T190000
DTEND;TZID=Europe/Berlin:20260119T210000
DTSTAMP:20260421T181214
CREATED:20251218T073517Z
LAST-MODIFIED:20251218T073519Z
UID:8988-1768849200-1768856400@ff-huettenbach.de
SUMMARY:Übung A
DESCRIPTION:
URL:https://ff-huettenbach.de/event/uebung-a-8/
CATEGORIES:Termine aktive Wehr
END:VEVENT
BEGIN:VEVENT
DTSTART;TZID=Europe/Berlin:20260121T200000
DTEND;TZID=Europe/Berlin:20260121T220000
DTSTAMP:20260421T181214
CREATED:20251218T073517Z
LAST-MODIFIED:20251218T073519Z
UID:8989-1769025600-1769032800@ff-huettenbach.de
SUMMARY:Vorstandschaftssitzung
DESCRIPTION:
URL:https://ff-huettenbach.de/event/vorstandschaftssitzung-12/
CATEGORIES:Termine Verein
END:VEVENT
BEGIN:VEVENT
DTSTART;TZID=Europe/Berlin:20260123T170000
DTEND;TZID=Europe/Berlin:20260123T190000
DTSTAMP:20260421T181214
CREATED:20251218T073517Z
LAST-MODIFIED:20251218T073519Z
UID:8990-1769187600-1769194800@ff-huettenbach.de
SUMMARY:Jugendfeuerwehr
DESCRIPTION:
URL:https://ff-huettenbach.de/event/jugendfeuerwehr-2/
CATEGORIES:Termine Jugendfeuerwehr
END:VEVENT
BEGIN:VEVENT
DTSTART;TZID=Europe/Berlin:20260125T083000
DTEND;TZID=Europe/Berlin:20260125T113000
DTSTAMP:20260421T181214
CREATED:20251218T073518Z
LAST-MODIFIED:20251218T073519Z
UID:8991-1769329800-1769340600@ff-huettenbach.de
SUMMARY:Übung
DESCRIPTION:
URL:https://ff-huettenbach.de/event/uebung-57/
CATEGORIES:Termine aktive Wehr
END:VEVENT
BEGIN:VEVENT
DTSTART;TZID=Europe/Berlin:20260128T200000
DTEND;TZID=Europe/Berlin:20260128T220000
DTSTAMP:20260421T181214
CREATED:20251218T073518Z
LAST-MODIFIED:20251218T073519Z
UID:8992-1769630400-1769637600@ff-huettenbach.de
SUMMARY:Kdt Sitzung Gde
DESCRIPTION:
URL:https://ff-huettenbach.de/event/kdt-sitzung-gde/
CATEGORIES:Termine aktive Wehr
END:VEVENT
BEGIN:VEVENT
DTSTART;TZID=Europe/Berlin:20260130T170000
DTEND;TZID=Europe/Berlin:20260130T190000
DTSTAMP:20260421T181214
CREATED:20251218T073534Z
LAST-MODIFIED:20251218T073534Z
UID:8998-1769792400-1769799600@ff-huettenbach.de
SUMMARY:Jugendfeuerwehr
DESCRIPTION:
URL:https://ff-huettenbach.de/event/jugendfeuerwehr-3/
CATEGORIES:Termine Jugendfeuerwehr
END:VEVENT
END:VCALENDAR