BEGIN:VCALENDAR
VERSION:2.0
PRODID:-//Freiwillige Feuerwehr Hüttenbach 1870 e.V. - ECPv6.15.20//NONSGML v1.0//EN
CALSCALE:GREGORIAN
METHOD:PUBLISH
X-ORIGINAL-URL:https://ff-huettenbach.de
X-WR-CALDESC:Veranstaltungen für Freiwillige Feuerwehr Hüttenbach 1870 e.V.
REFRESH-INTERVAL;VALUE=DURATION:PT1H
X-Robots-Tag:noindex
X-PUBLISHED-TTL:PT1H
BEGIN:VTIMEZONE
TZID:Europe/Berlin
BEGIN:DAYLIGHT
TZOFFSETFROM:+0100
TZOFFSETTO:+0200
TZNAME:CEST
DTSTART:20250330T010000
END:DAYLIGHT
BEGIN:STANDARD
TZOFFSETFROM:+0200
TZOFFSETTO:+0100
TZNAME:CET
DTSTART:20251026T010000
END:STANDARD
BEGIN:DAYLIGHT
TZOFFSETFROM:+0100
TZOFFSETTO:+0200
TZNAME:CEST
DTSTART:20260329T010000
END:DAYLIGHT
BEGIN:STANDARD
TZOFFSETFROM:+0200
TZOFFSETTO:+0100
TZNAME:CET
DTSTART:20261025T010000
END:STANDARD
BEGIN:DAYLIGHT
TZOFFSETFROM:+0100
TZOFFSETTO:+0200
TZNAME:CEST
DTSTART:20270328T010000
END:DAYLIGHT
BEGIN:STANDARD
TZOFFSETFROM:+0200
TZOFFSETTO:+0100
TZNAME:CET
DTSTART:20271031T010000
END:STANDARD
END:VTIMEZONE
BEGIN:VEVENT
DTSTART;TZID=Europe/Berlin:20260202T190000
DTEND;TZID=Europe/Berlin:20260202T210000
DTSTAMP:20260421T163825
CREATED:20251218T073534Z
LAST-MODIFIED:20251218T073534Z
UID:8999-1770058800-1770066000@ff-huettenbach.de
SUMMARY:Gruppendienst Gr. 3
DESCRIPTION:
URL:https://ff-huettenbach.de/event/gruppendienst-gr-3/
CATEGORIES:Termine aktive Wehr
END:VEVENT
BEGIN:VEVENT
DTSTART;TZID=Europe/Berlin:20260206T170000
DTEND;TZID=Europe/Berlin:20260206T190000
DTSTAMP:20260421T163825
CREATED:20251218T073534Z
LAST-MODIFIED:20251218T073534Z
UID:9000-1770397200-1770404400@ff-huettenbach.de
SUMMARY:Jugendfeuerwehr
DESCRIPTION:
URL:https://ff-huettenbach.de/event/jugendfeuerwehr-4/
CATEGORIES:Termine Jugendfeuerwehr
END:VEVENT
BEGIN:VEVENT
DTSTART;TZID=Europe/Berlin:20260209T190000
DTEND;TZID=Europe/Berlin:20260209T210000
DTSTAMP:20260421T163825
CREATED:20251218T073534Z
LAST-MODIFIED:20251218T073534Z
UID:9001-1770663600-1770670800@ff-huettenbach.de
SUMMARY:Übung B
DESCRIPTION:
URL:https://ff-huettenbach.de/event/uebung-b-8/
CATEGORIES:Termine aktive Wehr
END:VEVENT
BEGIN:VEVENT
DTSTART;TZID=Europe/Berlin:20260213T170000
DTEND;TZID=Europe/Berlin:20260213T190000
DTSTAMP:20260421T163825
CREATED:20251218T073535Z
LAST-MODIFIED:20251218T073535Z
UID:9002-1771002000-1771009200@ff-huettenbach.de
SUMMARY:Jugendfeuerwehr
DESCRIPTION:
URL:https://ff-huettenbach.de/event/jugendfeuerwehr-5/
CATEGORIES:Termine Jugendfeuerwehr
END:VEVENT
BEGIN:VEVENT
DTSTART;TZID=Europe/Berlin:20260216T183000
DTEND;TZID=Europe/Berlin:20260216T230000
DTSTAMP:20260421T163825
CREATED:20251218T073547Z
LAST-MODIFIED:20251218T073547Z
UID:9003-1771266600-1771282800@ff-huettenbach.de
SUMMARY:Kappenabend
DESCRIPTION:
URL:https://ff-huettenbach.de/event/kappenabend-2/
CATEGORIES:Termine Verein
END:VEVENT
BEGIN:VEVENT
DTSTART;TZID=Europe/Berlin:20260218T200000
DTEND;TZID=Europe/Berlin:20260218T220000
DTSTAMP:20260421T163825
CREATED:20251218T073547Z
LAST-MODIFIED:20251218T073547Z
UID:9004-1771444800-1771452000@ff-huettenbach.de
SUMMARY:Vorstandschaftssitzung
DESCRIPTION:
URL:https://ff-huettenbach.de/event/vorstandschaftssitzung-13/
CATEGORIES:Termine Verein
END:VEVENT
BEGIN:VEVENT
DTSTART;TZID=Europe/Berlin:20260220T153000
DTEND;TZID=Europe/Berlin:20260220T163000
DTSTAMP:20260421T163825
CREATED:20251218T073548Z
LAST-MODIFIED:20251218T073548Z
UID:9005-1771601400-1771605000@ff-huettenbach.de
SUMMARY:Kinderfeuerwehr
DESCRIPTION:
URL:https://ff-huettenbach.de/event/kinderfeuerwehr-2/
CATEGORIES:Termine Kinderfeuerwehr
END:VEVENT
BEGIN:VEVENT
DTSTART;TZID=Europe/Berlin:20260220T170000
DTEND;TZID=Europe/Berlin:20260220T190000
DTSTAMP:20260421T163825
CREATED:20251218T073548Z
LAST-MODIFIED:20251218T073548Z
UID:9006-1771606800-1771614000@ff-huettenbach.de
SUMMARY:Jugendfeuerwehr
DESCRIPTION:
URL:https://ff-huettenbach.de/event/jugendfeuerwehr-6/
CATEGORIES:Termine Jugendfeuerwehr
END:VEVENT
BEGIN:VEVENT
DTSTART;TZID=Europe/Berlin:20260222T083000
DTEND;TZID=Europe/Berlin:20260222T113000
DTSTAMP:20260421T163825
CREATED:20251218T073548Z
LAST-MODIFIED:20251218T073548Z
UID:9007-1771749000-1771759800@ff-huettenbach.de
SUMMARY:Übung
DESCRIPTION:
URL:https://ff-huettenbach.de/event/uebung-58/
CATEGORIES:Termine aktive Wehr
END:VEVENT
BEGIN:VEVENT
DTSTART;TZID=Europe/Berlin:20260223T190000
DTEND;TZID=Europe/Berlin:20260223T210000
DTSTAMP:20260421T163825
CREATED:20251218T073750Z
LAST-MODIFIED:20251218T073750Z
UID:9008-1771873200-1771880400@ff-huettenbach.de
SUMMARY:Übung ASG
DESCRIPTION:
URL:https://ff-huettenbach.de/event/uebung-asg/
CATEGORIES:Termine aktive Wehr
END:VEVENT
BEGIN:VEVENT
DTSTART;TZID=Europe/Berlin:20260226T190000
DTEND;TZID=Europe/Berlin:20260226T210000
DTSTAMP:20260421T163825
CREATED:20251218T073750Z
LAST-MODIFIED:20251218T073750Z
UID:9009-1772132400-1772139600@ff-huettenbach.de
SUMMARY:Kreisjugendwartsitzung
DESCRIPTION:
URL:https://ff-huettenbach.de/event/kreisjugendwartsitzung/
CATEGORIES:Termine Jugendfeuerwehr
END:VEVENT
BEGIN:VEVENT
DTSTART;TZID=Europe/Berlin:20260227T170000
DTEND;TZID=Europe/Berlin:20260227T190000
DTSTAMP:20260421T163825
CREATED:20251218T073751Z
LAST-MODIFIED:20251218T073751Z
UID:9010-1772211600-1772218800@ff-huettenbach.de
SUMMARY:Jugendfeuerwehr
DESCRIPTION:
URL:https://ff-huettenbach.de/event/jugendfeuerwehr-7/
CATEGORIES:Termine Jugendfeuerwehr
END:VEVENT
END:VCALENDAR