BEGIN:VCALENDAR
VERSION:2.0
PRODID:-//Freiwillige Feuerwehr Hüttenbach 1870 e.V. - ECPv6.15.20//NONSGML v1.0//EN
CALSCALE:GREGORIAN
METHOD:PUBLISH
X-WR-CALNAME:Freiwillige Feuerwehr Hüttenbach 1870 e.V.
X-ORIGINAL-URL:https://ff-huettenbach.de
X-WR-CALDESC:Veranstaltungen für Freiwillige Feuerwehr Hüttenbach 1870 e.V.
REFRESH-INTERVAL;VALUE=DURATION:PT1H
X-Robots-Tag:noindex
X-PUBLISHED-TTL:PT1H
BEGIN:VTIMEZONE
TZID:Europe/Berlin
BEGIN:DAYLIGHT
TZOFFSETFROM:+0100
TZOFFSETTO:+0200
TZNAME:CEST
DTSTART:20250330T010000
END:DAYLIGHT
BEGIN:STANDARD
TZOFFSETFROM:+0200
TZOFFSETTO:+0100
TZNAME:CET
DTSTART:20251026T010000
END:STANDARD
BEGIN:DAYLIGHT
TZOFFSETFROM:+0100
TZOFFSETTO:+0200
TZNAME:CEST
DTSTART:20260329T010000
END:DAYLIGHT
BEGIN:STANDARD
TZOFFSETFROM:+0200
TZOFFSETTO:+0100
TZNAME:CET
DTSTART:20261025T010000
END:STANDARD
BEGIN:DAYLIGHT
TZOFFSETFROM:+0100
TZOFFSETTO:+0200
TZNAME:CEST
DTSTART:20270328T010000
END:DAYLIGHT
BEGIN:STANDARD
TZOFFSETFROM:+0200
TZOFFSETTO:+0100
TZNAME:CET
DTSTART:20271031T010000
END:STANDARD
END:VTIMEZONE
BEGIN:VEVENT
DTSTART;TZID=Europe/Berlin:20260502T083000
DTEND;TZID=Europe/Berlin:20260502T103000
DTSTAMP:20260421T150623
CREATED:20251218T074520Z
LAST-MODIFIED:20251218T074520Z
UID:9038-1777710600-1777717800@ff-huettenbach.de
SUMMARY:Übung Sanitäter
DESCRIPTION:
URL:https://ff-huettenbach.de/event/uebung-sanitaeter-12/
CATEGORIES:Termine aktive Wehr
END:VEVENT
BEGIN:VEVENT
DTSTART;TZID=Europe/Berlin:20260502T090000
DTEND;TZID=Europe/Berlin:20260502T110000
DTSTAMP:20260421T150623
CREATED:20251218T074520Z
LAST-MODIFIED:20251218T074520Z
UID:9039-1777712400-1777719600@ff-huettenbach.de
SUMMARY:Jugendflamme 1+2
DESCRIPTION:
URL:https://ff-huettenbach.de/event/jugendflamme-12-2/
CATEGORIES:Termine Jugendfeuerwehr
END:VEVENT
BEGIN:VEVENT
DTSTART;TZID=Europe/Berlin:20260504T190000
DTEND;TZID=Europe/Berlin:20260504T210000
DTSTAMP:20260421T150623
CREATED:20251218T074521Z
LAST-MODIFIED:20251218T074521Z
UID:9040-1777921200-1777928400@ff-huettenbach.de
SUMMARY:Gruppendienst Gr. 3
DESCRIPTION:
URL:https://ff-huettenbach.de/event/gruppendienst-gr-3-2/
CATEGORIES:Termine aktive Wehr
END:VEVENT
BEGIN:VEVENT
DTSTART;TZID=Europe/Berlin:20260508T170000
DTEND;TZID=Europe/Berlin:20260508T190000
DTSTAMP:20260421T150623
CREATED:20251218T074521Z
LAST-MODIFIED:20251218T074521Z
UID:9041-1778259600-1778266800@ff-huettenbach.de
SUMMARY:Jugendfeuerwehr
DESCRIPTION:
URL:https://ff-huettenbach.de/event/jugendfeuerwehr-15/
CATEGORIES:Termine Jugendfeuerwehr
END:VEVENT
BEGIN:VEVENT
DTSTART;TZID=Europe/Berlin:20260509T170000
DTEND;TZID=Europe/Berlin:20260509T190000
DTSTAMP:20260421T150623
CREATED:20251218T074521Z
LAST-MODIFIED:20251218T074521Z
UID:9042-1778346000-1778353200@ff-huettenbach.de
SUMMARY:Florianstag Gottesdienst
DESCRIPTION:
URL:https://ff-huettenbach.de/event/florianstag-gottesdienst/
CATEGORIES:Termine aktive Wehr
END:VEVENT
BEGIN:VEVENT
DTSTART;TZID=Europe/Berlin:20260511T190000
DTEND;TZID=Europe/Berlin:20260511T210000
DTSTAMP:20260421T150623
CREATED:20251218T074536Z
LAST-MODIFIED:20251218T074536Z
UID:9043-1778526000-1778533200@ff-huettenbach.de
SUMMARY:Übung ASG
DESCRIPTION:
URL:https://ff-huettenbach.de/event/uebung-asg-2/
CATEGORIES:Termine aktive Wehr
END:VEVENT
BEGIN:VEVENT
DTSTART;TZID=Europe/Berlin:20260515T153000
DTEND;TZID=Europe/Berlin:20260515T163000
DTSTAMP:20260421T150623
CREATED:20251218T074537Z
LAST-MODIFIED:20251218T074537Z
UID:9044-1778859000-1778862600@ff-huettenbach.de
SUMMARY:Kinderfeuerwehr
DESCRIPTION:
URL:https://ff-huettenbach.de/event/kinderfeuerwehr-5/
CATEGORIES:Termine Kinderfeuerwehr
END:VEVENT
BEGIN:VEVENT
DTSTART;TZID=Europe/Berlin:20260515T170000
DTEND;TZID=Europe/Berlin:20260515T190000
DTSTAMP:20260421T150623
CREATED:20251218T074537Z
LAST-MODIFIED:20251218T074537Z
UID:9045-1778864400-1778871600@ff-huettenbach.de
SUMMARY:Jugendfeuerwehr
DESCRIPTION:
URL:https://ff-huettenbach.de/event/jugendfeuerwehr-16/
CATEGORIES:Termine Jugendfeuerwehr
END:VEVENT
BEGIN:VEVENT
DTSTART;TZID=Europe/Berlin:20260517T100000
DTEND;TZID=Europe/Berlin:20260517T120000
DTSTAMP:20260421T150623
CREATED:20251218T074537Z
LAST-MODIFIED:20251218T074537Z
UID:9046-1779012000-1779019200@ff-huettenbach.de
SUMMARY:Bergfest Oberndorf
DESCRIPTION:
URL:https://ff-huettenbach.de/event/bergfest-oberndorf-2/
CATEGORIES:Termine Verein
END:VEVENT
BEGIN:VEVENT
DTSTART;TZID=Europe/Berlin:20260518T190000
DTEND;TZID=Europe/Berlin:20260518T210000
DTSTAMP:20260421T150623
CREATED:20251218T074537Z
LAST-MODIFIED:20251218T074537Z
UID:9047-1779130800-1779138000@ff-huettenbach.de
SUMMARY:Übung B
DESCRIPTION:
URL:https://ff-huettenbach.de/event/uebung-b-9/
CATEGORIES:Termine aktive Wehr
END:VEVENT
BEGIN:VEVENT
DTSTART;TZID=Europe/Berlin:20260520T200000
DTEND;TZID=Europe/Berlin:20260520T220000
DTSTAMP:20260421T150623
CREATED:20251218T074738Z
LAST-MODIFIED:20251218T074738Z
UID:9048-1779307200-1779314400@ff-huettenbach.de
SUMMARY:Vorstandschaftssitzung
DESCRIPTION:
URL:https://ff-huettenbach.de/event/vorstandschaftssitzung-16/
CATEGORIES:Termine Verein
END:VEVENT
BEGIN:VEVENT
DTSTART;TZID=Europe/Berlin:20260522T090000
DTEND;TZID=Europe/Berlin:20260522T110000
DTSTAMP:20260421T150623
CREATED:20251218T074738Z
LAST-MODIFIED:20251218T074738Z
UID:9049-1779440400-1779447600@ff-huettenbach.de
SUMMARY:Zeltlager Gänserndorf
DESCRIPTION:
URL:https://ff-huettenbach.de/event/zeltlager-gaenserndorf/
CATEGORIES:Termine Jugendfeuerwehr
END:VEVENT
BEGIN:VEVENT
DTSTART;TZID=Europe/Berlin:20260527T200000
DTEND;TZID=Europe/Berlin:20260527T220000
DTSTAMP:20260421T150623
CREATED:20251218T074738Z
LAST-MODIFIED:20251218T074738Z
UID:9050-1779912000-1779919200@ff-huettenbach.de
SUMMARY:Kdt Sitzung Gde
DESCRIPTION:
URL:https://ff-huettenbach.de/event/kdt-sitzung-gde-3/
CATEGORIES:Termine aktive Wehr
END:VEVENT
BEGIN:VEVENT
DTSTART;TZID=Europe/Berlin:20260529T170000
DTEND;TZID=Europe/Berlin:20260529T190000
DTSTAMP:20260421T150623
CREATED:20251218T074739Z
LAST-MODIFIED:20251218T074739Z
UID:9051-1780074000-1780081200@ff-huettenbach.de
SUMMARY:Jugendfeuerwehr
DESCRIPTION:
URL:https://ff-huettenbach.de/event/jugendfeuerwehr-17/
CATEGORIES:Termine Jugendfeuerwehr
END:VEVENT
END:VCALENDAR