BEGIN:VCALENDAR
VERSION:2.0
PRODID:-//Freiwillige Feuerwehr Hüttenbach 1870 e.V. - ECPv6.15.20//NONSGML v1.0//EN
CALSCALE:GREGORIAN
METHOD:PUBLISH
X-ORIGINAL-URL:https://ff-huettenbach.de
X-WR-CALDESC:Veranstaltungen für Freiwillige Feuerwehr Hüttenbach 1870 e.V.
REFRESH-INTERVAL;VALUE=DURATION:PT1H
X-Robots-Tag:noindex
X-PUBLISHED-TTL:PT1H
BEGIN:VTIMEZONE
TZID:Europe/Berlin
BEGIN:DAYLIGHT
TZOFFSETFROM:+0100
TZOFFSETTO:+0200
TZNAME:CEST
DTSTART:20250330T010000
END:DAYLIGHT
BEGIN:STANDARD
TZOFFSETFROM:+0200
TZOFFSETTO:+0100
TZNAME:CET
DTSTART:20251026T010000
END:STANDARD
BEGIN:DAYLIGHT
TZOFFSETFROM:+0100
TZOFFSETTO:+0200
TZNAME:CEST
DTSTART:20260329T010000
END:DAYLIGHT
BEGIN:STANDARD
TZOFFSETFROM:+0200
TZOFFSETTO:+0100
TZNAME:CET
DTSTART:20261025T010000
END:STANDARD
BEGIN:DAYLIGHT
TZOFFSETFROM:+0100
TZOFFSETTO:+0200
TZNAME:CEST
DTSTART:20270328T010000
END:DAYLIGHT
BEGIN:STANDARD
TZOFFSETFROM:+0200
TZOFFSETTO:+0100
TZNAME:CET
DTSTART:20271031T010000
END:STANDARD
END:VTIMEZONE
BEGIN:VEVENT
DTSTART;TZID=Europe/Berlin:20260801T083000
DTEND;TZID=Europe/Berlin:20260801T103000
DTSTAMP:20260421T194226
CREATED:20251218T075534Z
LAST-MODIFIED:20251218T075534Z
UID:9090-1785573000-1785580200@ff-huettenbach.de
SUMMARY:Übung Sanitäter
DESCRIPTION:
URL:https://ff-huettenbach.de/event/uebung-sanitaeter-14/
CATEGORIES:Termine aktive Wehr
END:VEVENT
BEGIN:VEVENT
DTSTART;TZID=Europe/Berlin:20260803T190000
DTEND;TZID=Europe/Berlin:20260803T210000
DTSTAMP:20260421T194226
CREATED:20251218T075535Z
LAST-MODIFIED:20251218T075535Z
UID:9091-1785783600-1785790800@ff-huettenbach.de
SUMMARY:Gruppendienst Gr. 3
DESCRIPTION:
URL:https://ff-huettenbach.de/event/gruppendienst-gr-3-3/
CATEGORIES:Termine aktive Wehr
END:VEVENT
BEGIN:VEVENT
DTSTART;TZID=Europe/Berlin:20260810T190000
DTEND;TZID=Europe/Berlin:20260810T210000
DTSTAMP:20260421T194226
CREATED:20251218T075535Z
LAST-MODIFIED:20251218T075535Z
UID:9092-1786388400-1786395600@ff-huettenbach.de
SUMMARY:Übung MA
DESCRIPTION:
URL:https://ff-huettenbach.de/event/uebung-ma-2/
CATEGORIES:Termine aktive Wehr
END:VEVENT
BEGIN:VEVENT
DTSTART;TZID=Europe/Berlin:20260819T200000
DTEND;TZID=Europe/Berlin:20260819T220000
DTSTAMP:20260421T194226
CREATED:20251218T075545Z
LAST-MODIFIED:20251218T075545Z
UID:9093-1787169600-1787176800@ff-huettenbach.de
SUMMARY:Vorstandschaftssitzung
DESCRIPTION:
URL:https://ff-huettenbach.de/event/vorstandschaftssitzung-19/
CATEGORIES:Termine Verein
END:VEVENT
BEGIN:VEVENT
DTSTART;TZID=Europe/Berlin:20260821T170000
DTEND;TZID=Europe/Berlin:20260821T170000
DTSTAMP:20260421T194226
CREATED:20251218T075546Z
LAST-MODIFIED:20251218T075546Z
UID:9094-1787331600-1787331600@ff-huettenbach.de
SUMMARY:Kinderfeuerwehr
DESCRIPTION:
URL:https://ff-huettenbach.de/event/kinderfeuerwehr-8/
CATEGORIES:Termine Kinderfeuerwehr
END:VEVENT
BEGIN:VEVENT
DTSTART;TZID=Europe/Berlin:20260822T140000
DTEND;TZID=Europe/Berlin:20260822T160000
DTSTAMP:20260421T194226
CREATED:20251218T075546Z
LAST-MODIFIED:20251218T075546Z
UID:9095-1787407200-1787414400@ff-huettenbach.de
SUMMARY:Hydrantenprüfen
DESCRIPTION:
URL:https://ff-huettenbach.de/event/hydrantenpruefen/
CATEGORIES:Termine aktive Wehr
END:VEVENT
BEGIN:VEVENT
DTSTART;TZID=Europe/Berlin:20260828T170000
DTEND;TZID=Europe/Berlin:20260828T190000
DTSTAMP:20260421T194226
CREATED:20251218T075546Z
LAST-MODIFIED:20251218T075546Z
UID:9096-1787936400-1787943600@ff-huettenbach.de
SUMMARY:Jugendfeuerwehr
DESCRIPTION:
URL:https://ff-huettenbach.de/event/jugendfeuerwehr-26/
CATEGORIES:Termine Jugendfeuerwehr
END:VEVENT
BEGIN:VEVENT
DTSTART;TZID=Europe/Berlin:20260831T190000
DTEND;TZID=Europe/Berlin:20260831T210000
DTSTAMP:20260421T194226
CREATED:20251218T075546Z
LAST-MODIFIED:20251218T075546Z
UID:9097-1788202800-1788210000@ff-huettenbach.de
SUMMARY:Übung ASG
DESCRIPTION:
URL:https://ff-huettenbach.de/event/uebung-asg-3/
CATEGORIES:Termine aktive Wehr
END:VEVENT
END:VCALENDAR