BEGIN:VCALENDAR
VERSION:2.0
PRODID:-//Freiwillige Feuerwehr Hüttenbach 1870 e.V. - ECPv6.15.20//NONSGML v1.0//EN
CALSCALE:GREGORIAN
METHOD:PUBLISH
X-ORIGINAL-URL:https://ff-huettenbach.de
X-WR-CALDESC:Veranstaltungen für Freiwillige Feuerwehr Hüttenbach 1870 e.V.
REFRESH-INTERVAL;VALUE=DURATION:PT1H
X-Robots-Tag:noindex
X-PUBLISHED-TTL:PT1H
BEGIN:VTIMEZONE
TZID:Europe/Berlin
BEGIN:DAYLIGHT
TZOFFSETFROM:+0100
TZOFFSETTO:+0200
TZNAME:CEST
DTSTART:20250330T010000
END:DAYLIGHT
BEGIN:STANDARD
TZOFFSETFROM:+0200
TZOFFSETTO:+0100
TZNAME:CET
DTSTART:20251026T010000
END:STANDARD
BEGIN:DAYLIGHT
TZOFFSETFROM:+0100
TZOFFSETTO:+0200
TZNAME:CEST
DTSTART:20260329T010000
END:DAYLIGHT
BEGIN:STANDARD
TZOFFSETFROM:+0200
TZOFFSETTO:+0100
TZNAME:CET
DTSTART:20261025T010000
END:STANDARD
BEGIN:DAYLIGHT
TZOFFSETFROM:+0100
TZOFFSETTO:+0200
TZNAME:CEST
DTSTART:20270328T010000
END:DAYLIGHT
BEGIN:STANDARD
TZOFFSETFROM:+0200
TZOFFSETTO:+0100
TZNAME:CET
DTSTART:20271031T010000
END:STANDARD
END:VTIMEZONE
BEGIN:VEVENT
DTSTART;TZID=Europe/Berlin:20261002T170000
DTEND;TZID=Europe/Berlin:20261002T190000
DTSTAMP:20260421T235652
CREATED:20251218T075645Z
LAST-MODIFIED:20251218T075645Z
UID:9113-1790960400-1790967600@ff-huettenbach.de
SUMMARY:Jugendfeuerwehr
DESCRIPTION:
URL:https://ff-huettenbach.de/event/jugendfeuerwehr-30/
CATEGORIES:Termine Jugendfeuerwehr
END:VEVENT
BEGIN:VEVENT
DTSTART;TZID=Europe/Berlin:20261003T083000
DTEND;TZID=Europe/Berlin:20261003T103000
DTSTAMP:20260421T235652
CREATED:20251218T075646Z
LAST-MODIFIED:20251218T075646Z
UID:9114-1791016200-1791023400@ff-huettenbach.de
SUMMARY:Übung Sanitäter
DESCRIPTION:
URL:https://ff-huettenbach.de/event/uebung-sanitaeter-15/
CATEGORIES:Termine aktive Wehr
END:VEVENT
BEGIN:VEVENT
DTSTART;TZID=Europe/Berlin:20261005T190000
DTEND;TZID=Europe/Berlin:20261005T210000
DTSTAMP:20260421T235652
CREATED:20251218T075646Z
LAST-MODIFIED:20251218T075646Z
UID:9115-1791226800-1791234000@ff-huettenbach.de
SUMMARY:Gruppendienst Gr. 2
DESCRIPTION:
URL:https://ff-huettenbach.de/event/gruppendienst-gr-2-4/
CATEGORIES:Termine aktive Wehr
END:VEVENT
BEGIN:VEVENT
DTSTART;TZID=Europe/Berlin:20261009T170000
DTEND;TZID=Europe/Berlin:20261009T190000
DTSTAMP:20260421T235652
CREATED:20251218T075646Z
LAST-MODIFIED:20251218T075646Z
UID:9116-1791565200-1791572400@ff-huettenbach.de
SUMMARY:Jugendfeuerwehr
DESCRIPTION:
URL:https://ff-huettenbach.de/event/jugendfeuerwehr-31/
CATEGORIES:Termine Jugendfeuerwehr
END:VEVENT
BEGIN:VEVENT
DTSTART;TZID=Europe/Berlin:20261012T190000
DTEND;TZID=Europe/Berlin:20261012T210000
DTSTAMP:20260421T235652
CREATED:20251218T075646Z
LAST-MODIFIED:20251218T075646Z
UID:9117-1791831600-1791838800@ff-huettenbach.de
SUMMARY:Übung B
DESCRIPTION:
URL:https://ff-huettenbach.de/event/uebung-b-10/
CATEGORIES:Termine aktive Wehr
END:VEVENT
BEGIN:VEVENT
DTSTART;TZID=Europe/Berlin:20261016T153000
DTEND;TZID=Europe/Berlin:20261016T163000
DTSTAMP:20260421T235652
CREATED:20251218T075703Z
LAST-MODIFIED:20251218T075703Z
UID:9118-1792164600-1792168200@ff-huettenbach.de
SUMMARY:Kinderfeuerwehr
DESCRIPTION:
URL:https://ff-huettenbach.de/event/kinderfeuerwehr-10/
CATEGORIES:Termine Kinderfeuerwehr
END:VEVENT
BEGIN:VEVENT
DTSTART;TZID=Europe/Berlin:20261016T170000
DTEND;TZID=Europe/Berlin:20261016T190000
DTSTAMP:20260421T235652
CREATED:20251218T075704Z
LAST-MODIFIED:20251218T075704Z
UID:9119-1792170000-1792177200@ff-huettenbach.de
SUMMARY:Jugendfeuerwehr
DESCRIPTION:
URL:https://ff-huettenbach.de/event/jugendfeuerwehr-32/
CATEGORIES:Termine Jugendfeuerwehr
END:VEVENT
BEGIN:VEVENT
DTSTART;TZID=Europe/Berlin:20261019T190000
DTEND;TZID=Europe/Berlin:20261019T210000
DTSTAMP:20260421T235652
CREATED:20251218T075704Z
LAST-MODIFIED:20251218T075704Z
UID:9120-1792436400-1792443600@ff-huettenbach.de
SUMMARY:Übung MA
DESCRIPTION:
URL:https://ff-huettenbach.de/event/uebung-ma-3/
CATEGORIES:Termine aktive Wehr
END:VEVENT
BEGIN:VEVENT
DTSTART;TZID=Europe/Berlin:20261021T200000
DTEND;TZID=Europe/Berlin:20261021T220000
DTSTAMP:20260421T235652
CREATED:20251218T075704Z
LAST-MODIFIED:20251218T075704Z
UID:9121-1792612800-1792620000@ff-huettenbach.de
SUMMARY:Vorstandschaftssitzung
DESCRIPTION:
URL:https://ff-huettenbach.de/event/vorstandschaftssitzung-21/
CATEGORIES:Termine Verein
END:VEVENT
BEGIN:VEVENT
DTSTART;TZID=Europe/Berlin:20261023T183000
DTEND;TZID=Europe/Berlin:20261023T203000
DTSTAMP:20260421T235652
CREATED:20251218T075705Z
LAST-MODIFIED:20251218T075705Z
UID:9122-1792780200-1792787400@ff-huettenbach.de
SUMMARY:Wissenstest 2026
DESCRIPTION:
URL:https://ff-huettenbach.de/event/wissenstest-2026/
CATEGORIES:Termine Jugendfeuerwehr
END:VEVENT
BEGIN:VEVENT
DTSTART;TZID=Europe/Berlin:20261025T083000
DTEND;TZID=Europe/Berlin:20261025T113000
DTSTAMP:20260421T235652
CREATED:20251218T075721Z
LAST-MODIFIED:20251218T075721Z
UID:9123-1792917000-1792927800@ff-huettenbach.de
SUMMARY:Übung
DESCRIPTION:
URL:https://ff-huettenbach.de/event/uebung-63/
CATEGORIES:Termine aktive Wehr
END:VEVENT
BEGIN:VEVENT
DTSTART;TZID=Europe/Berlin:20261030T170000
DTEND;TZID=Europe/Berlin:20261030T190000
DTSTAMP:20260421T235652
CREATED:20251218T075721Z
LAST-MODIFIED:20251218T075721Z
UID:9124-1793379600-1793386800@ff-huettenbach.de
SUMMARY:Jugendfeuerwehr
DESCRIPTION:
URL:https://ff-huettenbach.de/event/jugendfeuerwehr-33/
CATEGORIES:Termine Jugendfeuerwehr
END:VEVENT
BEGIN:VEVENT
DTSTART;TZID=Europe/Berlin:20261031T183000
DTEND;TZID=Europe/Berlin:20261031T233000
DTSTAMP:20260421T235652
CREATED:20251218T075721Z
LAST-MODIFIED:20251218T075721Z
UID:9125-1793471400-1793489400@ff-huettenbach.de
SUMMARY:Kameradschaftsabend
DESCRIPTION:
URL:https://ff-huettenbach.de/event/kameradschaftsabend-2/
CATEGORIES:Termine Verein
END:VEVENT
END:VCALENDAR